BEGIN:VCALENDAR
VERSION:2.0
PRODID:-//Sailing in Canada - ECPv6.15.11//NONSGML v1.0//EN
CALSCALE:GREGORIAN
METHOD:PUBLISH
X-ORIGINAL-URL:https://sailingincanada.ca
X-WR-CALDESC:Events for Sailing in Canada
REFRESH-INTERVAL;VALUE=DURATION:PT1H
X-Robots-Tag:noindex
X-PUBLISHED-TTL:PT1H
BEGIN:VTIMEZONE
TZID:America/Toronto
BEGIN:DAYLIGHT
TZOFFSETFROM:-0500
TZOFFSETTO:-0400
TZNAME:EDT
DTSTART:20190310T070000
END:DAYLIGHT
BEGIN:STANDARD
TZOFFSETFROM:-0400
TZOFFSETTO:-0500
TZNAME:EST
DTSTART:20191103T060000
END:STANDARD
BEGIN:DAYLIGHT
TZOFFSETFROM:-0500
TZOFFSETTO:-0400
TZNAME:EDT
DTSTART:20200308T070000
END:DAYLIGHT
BEGIN:STANDARD
TZOFFSETFROM:-0400
TZOFFSETTO:-0500
TZNAME:EST
DTSTART:20201101T060000
END:STANDARD
BEGIN:DAYLIGHT
TZOFFSETFROM:-0500
TZOFFSETTO:-0400
TZNAME:EDT
DTSTART:20210314T070000
END:DAYLIGHT
BEGIN:STANDARD
TZOFFSETFROM:-0400
TZOFFSETTO:-0500
TZNAME:EST
DTSTART:20211107T060000
END:STANDARD
END:VTIMEZONE
BEGIN:VEVENT
DTSTART;VALUE=DATE:20200627
DTEND;VALUE=DATE:20200629
DTSTAMP:20260419T075640
CREATED:20191205T211837Z
LAST-MODIFIED:20191205T211837Z
UID:15956-1593216000-1593388799@sailingincanada.ca
SUMMARY:RCYC Dinghy Open Regatta
DESCRIPTION:
URL:https://sailingincanada.ca/event/rcyc-dinghy-open-regatta/
LOCATION:Royal Canadian Yacht Club\, Toronto\, ON\, Royal Canadian Yacht Club\, Toronto\, ON
CATEGORIES:Regattas
END:VEVENT
BEGIN:VEVENT
DTSTART;VALUE=DATE:20200613
DTEND;VALUE=DATE:20200615
DTSTAMP:20260419T075640
CREATED:20191205T211813Z
LAST-MODIFIED:20191205T211813Z
UID:15955-1592006400-1592179199@sailingincanada.ca
SUMMARY:RCYC Open Regatta
DESCRIPTION:
URL:https://sailingincanada.ca/event/rcyc-open-regatta/
LOCATION:Royal Canadian Yacht Club\, Toronto\, ON\, Royal Canadian Yacht Club\, Toronto\, ON
CATEGORIES:Regattas
END:VEVENT
BEGIN:VEVENT
DTSTART;VALUE=DATE:20200516
DTEND;VALUE=DATE:20200517
DTSTAMP:20260419T075640
CREATED:20200203T151301Z
LAST-MODIFIED:20200203T151301Z
UID:15992-1589587200-1589673599@sailingincanada.ca
SUMMARY:Ice Breaker Regatta
DESCRIPTION:
URL:https://sailingincanada.ca/event/ice-breaker-regatta/
LOCATION:Armdale Yacht Club\, Armdale NS\, Armdale Yacht Club\, Armdale NS
CATEGORIES:Regattas
END:VEVENT
END:VCALENDAR