BEGIN:VCALENDAR
VERSION:2.0
PRODID:-//Sailing in Canada - ECPv6.15.11//NONSGML v1.0//EN
CALSCALE:GREGORIAN
METHOD:PUBLISH
X-WR-CALNAME:Sailing in Canada
X-ORIGINAL-URL:https://sailingincanada.ca
X-WR-CALDESC:Events for Sailing in Canada
REFRESH-INTERVAL;VALUE=DURATION:PT1H
X-Robots-Tag:noindex
X-PUBLISHED-TTL:PT1H
BEGIN:VTIMEZONE
TZID:America/Toronto
BEGIN:DAYLIGHT
TZOFFSETFROM:-0500
TZOFFSETTO:-0400
TZNAME:EDT
DTSTART:20190310T070000
END:DAYLIGHT
BEGIN:STANDARD
TZOFFSETFROM:-0400
TZOFFSETTO:-0500
TZNAME:EST
DTSTART:20191103T060000
END:STANDARD
BEGIN:DAYLIGHT
TZOFFSETFROM:-0500
TZOFFSETTO:-0400
TZNAME:EDT
DTSTART:20200308T070000
END:DAYLIGHT
BEGIN:STANDARD
TZOFFSETFROM:-0400
TZOFFSETTO:-0500
TZNAME:EST
DTSTART:20201101T060000
END:STANDARD
BEGIN:DAYLIGHT
TZOFFSETFROM:-0500
TZOFFSETTO:-0400
TZNAME:EDT
DTSTART:20210314T070000
END:DAYLIGHT
BEGIN:STANDARD
TZOFFSETFROM:-0400
TZOFFSETTO:-0500
TZNAME:EST
DTSTART:20211107T060000
END:STANDARD
END:VTIMEZONE
BEGIN:VEVENT
DTSTART;VALUE=DATE:20200614
DTEND;VALUE=DATE:20200615
DTSTAMP:20260419T092936
CREATED:20191120T154255Z
LAST-MODIFIED:20191120T154255Z
UID:15923-1592092800-1592179199@sailingincanada.ca
SUMMARY:Lake Ontario Short Handed Racing Series (LOSHRS) Race 3
DESCRIPTION:LOSHRS is a series of races for single and double-handed keelboat and multihull sailboats on western Lake Ontario. \nA race back to PCYC from either YYC or DYC.
URL:https://sailingincanada.ca/event/lake-ontario-short-handed-racing-series-loshrs-race-3/
LOCATION:Port Credit Yacht Club\, Mississauga\, ON\, Port Credit Yacht Club\, Mississauga\, ON
CATEGORIES:DEFAULT
END:VEVENT
BEGIN:VEVENT
DTSTART;VALUE=DATE:20200613
DTEND;VALUE=DATE:20200614
DTSTAMP:20260419T092936
CREATED:20191120T154158Z
LAST-MODIFIED:20191120T154158Z
UID:15922-1592006400-1592092799@sailingincanada.ca
SUMMARY:Lake Ontario Short Handed Racing Series (LOSHRS) Race 2
DESCRIPTION:LOSHRS is a series of races for single and double-handed keelboat and multihull sailboats on western Lake Ontario. \n*    A race from Port Credit Yacht Club to either YYC or DYC depending on Lake Ontario water levels in 2020. \n  \n 
URL:https://sailingincanada.ca/event/lake-ontario-short-handed-racing-series-loshrs-race-2/
LOCATION:Port Credit Yacht Club\, Mississauga\, ON\, Port Credit Yacht Club\, Mississauga\, ON
CATEGORIES:DEFAULT
END:VEVENT
BEGIN:VEVENT
DTSTART;TZID=America/Toronto:20200606T080000
DTEND;TZID=America/Toronto:20200606T120000
DTSTAMP:20260419T092936
CREATED:20200221T181109Z
LAST-MODIFIED:20200221T181109Z
UID:16000-1591430400-1591444800@sailingincanada.ca
SUMMARY:Bay Port Spring Flea Market & BBQ
DESCRIPTION:
URL:https://sailingincanada.ca/event/bay-port-spring-flea-market-bbq/
LOCATION:Bay Port Yachting Centre\, Midland\, ON\, Bay Port Yachting Centre\, Midland\, ON
CATEGORIES:DEFAULT
END:VEVENT
BEGIN:VEVENT
DTSTART;VALUE=DATE:20200531
DTEND;VALUE=DATE:20200601
DTSTAMP:20260419T092936
CREATED:20191120T154056Z
LAST-MODIFIED:20191120T154056Z
UID:15921-1590883200-1590969599@sailingincanada.ca
SUMMARY:Lake Ontario Short Handed Racing Series (LOSHRS) Race 1
DESCRIPTION:LOSHRS is a series of races for single and double-handed keelboat and multihull sailboats on western Lake Ontario. \n*    A course race between PCYC and Toronto Islands via Clarkson.
URL:https://sailingincanada.ca/event/lake-ontario-short-handed-racing-series-loshrs-race-1/
LOCATION:Port Credit Yacht Club\, Mississauga\, ON\, Port Credit Yacht Club\, Mississauga\, ON
CATEGORIES:DEFAULT
END:VEVENT
BEGIN:VEVENT
DTSTART;VALUE=DATE:20200530
DTEND;VALUE=DATE:20200531
DTSTAMP:20260419T092936
CREATED:20200306T170516Z
LAST-MODIFIED:20200306T170516Z
UID:16005-1590796800-1590883199@sailingincanada.ca
SUMMARY:Boxing Rock Cup
DESCRIPTION:
URL:https://sailingincanada.ca/event/boxing-rock-cup/
LOCATION:Halifax Harbour\, NS\, Halifax Harbour\, NS
CATEGORIES:DEFAULT
END:VEVENT
BEGIN:VEVENT
DTSTART;VALUE=DATE:20200529
DTEND;VALUE=DATE:20200531
DTSTAMP:20260419T092936
CREATED:20191120T153905Z
LAST-MODIFIED:20191120T153905Z
UID:15919-1590710400-1590883199@sailingincanada.ca
SUMMARY:Susan Hood Trophy Race (SHTR)
DESCRIPTION:*    A 75 NM overnight race on western Lake Ontario from Port Credit Yacht Club (PCYC) and finishing at PCYC. \n*    This race is open to single handed\, double handed and fully crewed keelboat and multihull sailboats. \n*    A component of Ontario Sailing’s Offshore Championship for PHRF
URL:https://sailingincanada.ca/event/susan-hood-trophy-race-shtr/
LOCATION:Port Credit Yacht Club\, Mississauga\, ON\, Port Credit Yacht Club\, Mississauga\, ON
CATEGORIES:DEFAULT
END:VEVENT
BEGIN:VEVENT
DTSTART;VALUE=DATE:20200523
DTEND;VALUE=DATE:20200525
DTSTAMP:20260419T092936
CREATED:20191218T181718Z
LAST-MODIFIED:20191218T181718Z
UID:15961-1590192000-1590364799@sailingincanada.ca
SUMMARY:ABYC Open / LORC Toronto
DESCRIPTION:
URL:https://sailingincanada.ca/event/abyc-open-lorc-toronto/
LOCATION:Ashbridges Bay Yacht Club\,Toronto\, ON\, Ashbridges Bay Yacht Club\,Toronto\, ON
CATEGORIES:DEFAULT
END:VEVENT
BEGIN:VEVENT
DTSTART;VALUE=DATE:20200502
DTEND;VALUE=DATE:20200503
DTSTAMP:20260419T092936
CREATED:20200218T195017Z
LAST-MODIFIED:20200218T195017Z
UID:15997-1588377600-1588463999@sailingincanada.ca
SUMMARY:Deans Marine Annual Marine Swap n Shop - POSTPONED UNTIL SEPTEMBER
DESCRIPTION:Book your spot  now so your not disappointed $45.00 \nall proceeds will be donated to Boating BC for a Marine Mechanic Bursary \n  \nThis event has been postponed until September 202 due to Covid-19. \n  \nMore detail will become available closer to the date.  \n  \nStay safe!
URL:https://sailingincanada.ca/event/deans-marine-annual-marine-swap-n-shop-postponed-until-september/
LOCATION:Dean’s Marine Ltd\, 5147 Polkey Rd\, Duncan\, BC\, Dean’s Marine Ltd\, 5147 Polkey Rd\, Duncan\, BC
CATEGORIES:DEFAULT
END:VEVENT
BEGIN:VEVENT
DTSTART;VALUE=DATE:20200422
DTEND;VALUE=DATE:20200423
DTSTAMP:20260419T092936
CREATED:20200417T185647Z
LAST-MODIFIED:20200417T185647Z
UID:16011-1587574800-1587574800@sailingincanada.ca
SUMMARY:North Sails Let's Talk Offshore Racing webinar
DESCRIPTION:
URL:https://sailingincanada.ca/event/north-sails-lets-talk-offshore-racing-webinar/
CATEGORIES:DEFAULT
END:VEVENT
END:VCALENDAR