BEGIN:VCALENDAR
VERSION:2.0
PRODID:-//Sailing in Canada - ECPv6.15.11//NONSGML v1.0//EN
CALSCALE:GREGORIAN
METHOD:PUBLISH
X-ORIGINAL-URL:https://sailingincanada.ca
X-WR-CALDESC:Events for Sailing in Canada
REFRESH-INTERVAL;VALUE=DURATION:PT1H
X-Robots-Tag:noindex
X-PUBLISHED-TTL:PT1H
BEGIN:VTIMEZONE
TZID:America/Toronto
BEGIN:DAYLIGHT
TZOFFSETFROM:-0500
TZOFFSETTO:-0400
TZNAME:EDT
DTSTART:20190310T070000
END:DAYLIGHT
BEGIN:STANDARD
TZOFFSETFROM:-0400
TZOFFSETTO:-0500
TZNAME:EST
DTSTART:20191103T060000
END:STANDARD
BEGIN:DAYLIGHT
TZOFFSETFROM:-0500
TZOFFSETTO:-0400
TZNAME:EDT
DTSTART:20200308T070000
END:DAYLIGHT
BEGIN:STANDARD
TZOFFSETFROM:-0400
TZOFFSETTO:-0500
TZNAME:EST
DTSTART:20201101T060000
END:STANDARD
BEGIN:DAYLIGHT
TZOFFSETFROM:-0500
TZOFFSETTO:-0400
TZNAME:EDT
DTSTART:20210314T070000
END:DAYLIGHT
BEGIN:STANDARD
TZOFFSETFROM:-0400
TZOFFSETTO:-0500
TZNAME:EST
DTSTART:20211107T060000
END:STANDARD
BEGIN:DAYLIGHT
TZOFFSETFROM:-0500
TZOFFSETTO:-0400
TZNAME:EDT
DTSTART:20220313T070000
END:DAYLIGHT
BEGIN:STANDARD
TZOFFSETFROM:-0400
TZOFFSETTO:-0500
TZNAME:EST
DTSTART:20221106T060000
END:STANDARD
BEGIN:DAYLIGHT
TZOFFSETFROM:-0500
TZOFFSETTO:-0400
TZNAME:EDT
DTSTART:20230312T070000
END:DAYLIGHT
BEGIN:STANDARD
TZOFFSETFROM:-0400
TZOFFSETTO:-0500
TZNAME:EST
DTSTART:20231105T060000
END:STANDARD
END:VTIMEZONE
BEGIN:VEVENT
DTSTART;VALUE=DATE:20220121
DTEND;VALUE=DATE:20220131
DTSTAMP:20260421T073131
CREATED:20180524T162854Z
LAST-MODIFIED:20180524T162854Z
UID:15665-1642723200-1643587199@sailingincanada.ca
SUMMARY:Toronto International Boat Show 2022
DESCRIPTION:
URL:https://sailingincanada.ca/event/toronto-international-boat-show-2022/
CATEGORIES:Boat Shows
END:VEVENT
BEGIN:VEVENT
DTSTART;VALUE=DATE:20210115
DTEND;VALUE=DATE:20210125
DTSTAMP:20260421T073131
CREATED:20180524T162822Z
LAST-MODIFIED:20180524T162822Z
UID:15664-1610668800-1611532799@sailingincanada.ca
SUMMARY:Toronto International Boat Show 2021
DESCRIPTION:
URL:https://sailingincanada.ca/event/toronto-international-boat-show-2021/
CATEGORIES:Boat Shows
END:VEVENT
BEGIN:VEVENT
DTSTART;VALUE=DATE:20200808
DTEND;VALUE=DATE:20200809
DTSTAMP:20260421T073131
CREATED:20200330T171731Z
LAST-MODIFIED:20200330T171731Z
UID:16007-1596844800-1596931199@sailingincanada.ca
SUMMARY:Manotick Classic Boat Club Boat Show
DESCRIPTION:
URL:https://sailingincanada.ca/event/manotick-classic-boat-club-boat-show/
LOCATION:Manotick Classic Boat Club\, Rideau Ferry\, ON\, Manotick Classic Boat Club\, Rideau Ferry\, ON  
CATEGORIES:Boat Shows
END:VEVENT
BEGIN:VEVENT
DTSTART;TZID=America/Toronto:20200731T080000
DTEND;TZID=America/Toronto:20200802T170000
DTSTAMP:20260421T073131
CREATED:20200330T171815Z
LAST-MODIFIED:20200330T171815Z
UID:16009-1596182400-1596387600@sailingincanada.ca
SUMMARY:Antique Boat Museum Antique Boat Show
DESCRIPTION:
URL:https://sailingincanada.ca/event/antique-boat-museum-antique-boat-show/
LOCATION:Clayton\, NY\, Clayton\, NY  
CATEGORIES:Boat Shows
END:VEVENT
BEGIN:VEVENT
DTSTART;VALUE=DATE:20200708
DTEND;VALUE=DATE:20200713
DTSTAMP:20260421T073131
CREATED:20200207T193435Z
LAST-MODIFIED:20200207T193435Z
UID:15994-1594166400-1594598399@sailingincanada.ca
SUMMARY:2020 40th Annual Vintage Boat Show
DESCRIPTION:“Celebrating 40 years of Boat Shows\,” From Wood to Classic Glass. Pre and post events from Wednesday\, July 8 through Sunday\, July 12.
URL:https://sailingincanada.ca/event/2020-40th-annual-vintage-boat-show/
LOCATION:Muskoka Wharf\, 821 Bay Street\, Gravenhurst\, ON\, Muskoka Wharf\, 821 Bay Street\, Gravenhurst\, ON
CATEGORIES:Boat Shows
END:VEVENT
END:VCALENDAR